BEGIN:VCALENDAR
VERSION:2.0
PRODID:-//wp-events-plugin.com//7.2.3//EN
TZID:Europe/Madrid
X-WR-TIMEZONE:Europe/Madrid
BEGIN:VEVENT
UID:340@elshostaletsdepierola.cat
DTSTART:20170720T183000Z
DTEND:20170725T235900Z
DTSTAMP:20170720T134210Z
URL:https://elshostaletsdepierola.cat/events/20-25-juliol-festa-major-host
 alets-pierola/
SUMMARY:20-25 juliol. Festa Major dels Hostalets de Pierola
DESCRIPTION:Ja ha arribat el mes de juliol i\, com cada any per Sant Jaume\
 , els Hostalets del Pierola celebra la Festa Major. Exprimim-la! \nTota l
 a info aquí.
ATTACH;FMTTYPE=image/jpeg:https://elshostaletsdepierola.cat/wp-content/upl
 oads/2017/07/portada-programa.jpg
CATEGORIES:Cultura,Esdeveniments,Esport,Joventut,newsletter
END:VEVENT
END:VCALENDAR