BEGIN:VCALENDAR
VERSION:2.0
PRODID:-//wp-events-plugin.com//7.2.3//EN
TZID:Europe/Madrid
X-WR-TIMEZONE:Europe/Madrid
BEGIN:VEVENT
UID:75@elshostaletsdepierola.cat
DTSTART:20160320T124500Z
DTEND:20160320T133000Z
DTSTAMP:20160314T190217Z
URL:https://elshostaletsdepierola.cat/events/20-de-marc-setmana-santa-bene
 diccio-de-rams/
SUMMARY:20 de març. Setmana Santa: Benedicció de Rams
DESCRIPTION:
CATEGORIES:Cultura,Esdeveniments,newsletter
LOCATION:Església parroquial de Sant Pere\, Carrer de l'Esglèsia\, 18\, E
 ls Hostalets de Pierola\, Spain\, 08781\, Espanya
GEO:41.5322568;1.797712400000023
X-APPLE-STRUCTURED-LOCATION;VALUE=URI;X-ADDRESS=Carrer de l'Esglèsia\, 18\
 , Els Hostalets de Pierola\, Spain\, 08781\, Espanya;X-APPLE-RADIUS=100;X-
 TITLE=Església parroquial de Sant Pere:geo:41.5322568,1.797712400000023
END:VEVENT
END:VCALENDAR