BEGIN:VCALENDAR
VERSION:2.0
PRODID:-//wp-events-plugin.com//7.2.3//EN
TZID:Europe/Madrid
X-WR-TIMEZONE:Europe/Madrid
BEGIN:VEVENT
UID:838@elshostaletsdepierola.cat
DTSTART:20190720T210000Z
DTEND:20190720T235900Z
DTSTAMP:20190717T083822Z
URL:https://elshostaletsdepierola.cat/events/20-juliol-festa-major-can-mar
 cet/
SUMMARY:20 juliol. Festa Major Can Marcet
DESCRIPTION:
ATTACH;FMTTYPE=image/jpeg:https://elshostaletsdepierola.cat/wp-content/upl
 oads/2019/07/fm-can-marcet.jpg
CATEGORIES:Esdeveniments,Festes,newsletter
LOCATION:Can Marcet\, Can Marcet\, Els Hostalets de Pierola\, Barcelona\, 0
 8781\, Catalunya\, Espanya
GEO:41.5129084;1.8268050000000358
X-APPLE-STRUCTURED-LOCATION;VALUE=URI;X-ADDRESS=Can Marcet\, Els Hostalets 
 de Pierola\, Barcelona\, 08781\, Catalunya\, Espanya;X-APPLE-RADIUS=100;X-
 TITLE=Can Marcet:geo:41.5129084,1.8268050000000358
END:VEVENT
END:VCALENDAR