BEGIN:VCALENDAR
VERSION:2.0
PRODID:-//wp-events-plugin.com//7.2.3//EN
TZID:Europe/Madrid
X-WR-TIMEZONE:Europe/Madrid
BEGIN:VEVENT
UID:1104@elshostaletsdepierola.cat
DTSTART:20200620T100000Z
DTEND:20200620T200000Z
DTSTAMP:20200615T055523Z
URL:https://elshostaletsdepierola.cat/events/20-juny-inici-temporada-de-la
 -piscina/
SUMMARY:20 juny. Inici temporada de la piscina
DESCRIPTION:
ATTACH;FMTTYPE=image/jpeg:https://elshostaletsdepierola.cat/wp-content/upl
 oads/2020/06/piscina2020.png
CATEGORIES:Esdeveniments,Esport,newsletter
LOCATION:Piscina dels Hostalets de Pierola\, carrer de Pau Casals\, 1\, Els
  Hostalets de Pierola\, Barcelona\, Catalunya\, Espanya
GEO:41.53357;1.7669399999999769
X-APPLE-STRUCTURED-LOCATION;VALUE=URI;X-ADDRESS=carrer de Pau Casals\, 1\, 
 Els Hostalets de Pierola\, Barcelona\, Catalunya\, Espanya;X-APPLE-RADIUS=
 100;X-TITLE=Piscina dels Hostalets de Pierola:geo:41.53357,1.7669399999999
 769
END:VEVENT
END:VCALENDAR