BEGIN:VCALENDAR
VERSION:2.0
PRODID:-//wp-events-plugin.com//7.2.3//EN
TZID:Europe/Madrid
X-WR-TIMEZONE:Europe/Madrid
BEGIN:VEVENT
UID:959@elshostaletsdepierola.cat
DTSTART:20191221T100000Z
DTEND:20191221T130000Z
DTSTAMP:20191219T195100Z
URL:https://elshostaletsdepierola.cat/events/21-desembre-torneig-a-la-pist
 a-johan-cruyff/
SUMMARY:21 desembre. Torneig a la pista Johan Cruyff
DESCRIPTION:
ATTACH;FMTTYPE=image/jpeg:https://elshostaletsdepierola.cat/wp-content/upl
 oads/2019/12/captura-de-pantalla-2019-12-19-a-les-21-47-52.png
CATEGORIES:Esdeveniments,Esport
LOCATION:Cruyff Court Els Hostalets de Pierola\, Parc Cal Ponsa\, Els Hosta
 lets de Pierola\, Espanya
X-APPLE-STRUCTURED-LOCATION;VALUE=URI;X-ADDRESS=Parc Cal Ponsa\, Els Hostal
 ets de Pierola\, Espanya;X-APPLE-RADIUS=100;X-TITLE=Cruyff Court Els Hosta
 lets de Pierola:geo:0,0
END:VEVENT
END:VCALENDAR