BEGIN:VCALENDAR
VERSION:2.0
PRODID:-//wp-events-plugin.com//7.2.3//EN
TZID:Europe/Madrid
X-WR-TIMEZONE:Europe/Madrid
BEGIN:VEVENT
UID:121@elshostaletsdepierola.cat
DTSTART:20160521T200000Z
DTEND:20160521T235900Z
DTSTAMP:20160517T144727Z
URL:https://elshostaletsdepierola.cat/events/21-maig-nit-dels-museus-crip/
SUMMARY:21 de maig. Nit dels Museus al CRIP
DESCRIPTION:Tota la informació aquí.
ATTACH;FMTTYPE=image/jpeg:https://elshostaletsdepierola.cat/wp-content/upl
 oads/2016/05/CARTELL-NIT-DELS-MUSEUS-2016-2.jpg
CATEGORIES:Cultura,Esdeveniments,newsletter
LOCATION:CRIP\, Aureli Roviralta\,1\, Els Hostalets de Pierola\, Espanya
GEO:41.535661;1.7652459999999337
X-APPLE-STRUCTURED-LOCATION;VALUE=URI;X-ADDRESS=Aureli Roviralta\,1\, Els H
 ostalets de Pierola\, Espanya;X-APPLE-RADIUS=100;X-TITLE=CRIP:geo:41.53566
 1,1.7652459999999337
END:VEVENT
END:VCALENDAR