BEGIN:VCALENDAR
VERSION:2.0
PRODID:-//wp-events-plugin.com//7.2.3//EN
TZID:Europe/Madrid
X-WR-TIMEZONE:Europe/Madrid
BEGIN:VEVENT
UID:621@elshostaletsdepierola.cat
DTSTART:20181021T093000Z
DTEND:20181021T133000Z
DTSTAMP:20181015T101201Z
URL:https://elshostaletsdepierola.cat/events/21-octubre-7a-caminada-interg
 eneracional/
SUMMARY:21 octubre. 7a caminada intergeneracional
DESCRIPTION:Tota la informació\, aquí.
ATTACH;FMTTYPE=image/jpeg:https://elshostaletsdepierola.cat/wp-content/upl
 oads/2018/10/caminada-intergeneracional-18.jpg
CATEGORIES:Esdeveniments,Esport,newsletter
LOCATION:Auditori Cal Figueres\, Poliesportiu Municipal\, Hostalets de Pier
 ola\, Espanya
GEO:41.534829;1.768541
X-APPLE-STRUCTURED-LOCATION;VALUE=URI;X-ADDRESS=Poliesportiu Municipal\, Ho
 stalets de Pierola\, Espanya;X-APPLE-RADIUS=100;X-TITLE=Auditori Cal Figue
 res:geo:41.534829,1.768541
END:VEVENT
END:VCALENDAR