BEGIN:VCALENDAR
VERSION:2.0
PRODID:-//wp-events-plugin.com//7.2.3//EN
TZID:Europe/Madrid
X-WR-TIMEZONE:Europe/Madrid
BEGIN:VEVENT
UID:1293@elshostaletsdepierola.cat
DTSTART:20210721T200000Z
DTEND:20210721T213000Z
DTSTAMP:20210715T085601Z
URL:https://elshostaletsdepierola.cat/events/21juliol-musica-a-la-fesca-ed
 uard-gener/
SUMMARY:21 juliol. Música a la fresca: Eduard Gener
DESCRIPTION:
ATTACH;FMTTYPE=image/jpeg:https://elshostaletsdepierola.cat/wp-content/upl
 oads/2021/07/screenshot_20210706-090609_gallery.jpg
CATEGORIES:Cultura,Esdeveniments,newsletter
LOCATION:Casal Català\, Isidre Vallès\, 30\, Els Hostalets de Pierola\, C
 atalunya\, 808781\, Espanya
GEO:41.5334999;1.7705200000000332
X-APPLE-STRUCTURED-LOCATION;VALUE=URI;X-ADDRESS=Isidre Vallès\, 30\, Els H
 ostalets de Pierola\, Catalunya\, 808781\, Espanya;X-APPLE-RADIUS=100;X-TI
 TLE=Casal Català:geo:41.5334999,1.7705200000000332
END:VEVENT
END:VCALENDAR