BEGIN:VCALENDAR
VERSION:2.0
PRODID:-//wp-events-plugin.com//7.2.3//EN
TZID:Europe/Madrid
X-WR-TIMEZONE:Europe/Madrid
BEGIN:VEVENT
UID:778@elshostaletsdepierola.cat
DTSTART:20190422T120000Z
DTEND:20190422T180000Z
DTSTAMP:20190417T130127Z
URL:https://elshostaletsdepierola.cat/events/22-abril-balls-dinar-i-lloll-
 sgg2019/
SUMMARY:22 abril. Balls\, dinar i Lloll (SGG 2019)
DESCRIPTION:Primer dia de la Setmana de la Gent Gran amb Missa Solemne a le
 s 12h\, Cercavila de balls populars\, Dinar homenatge a la carpa de de la 
 pista poliesportiva a les 14h i\, a continuació\, espectacle de la Lloll 
 Bertran.\n\nConsulteu el programa de la Setmana de la Gent Gran 2019:\n[go
 ogle-drive-embed url="https://drive.google.com/a/elshostaletsdepierola.cat
 /file/d/1S4kBIrn8akNDEOA6W25TsgdKZ8QhDHNH/preview?usp=drivesdk" title="Pro
 grama_GentGran_2019.pdf" icon="https://drive-thirdparty.googleusercontent.
 com/16/type/application/pdf" width="100%" height="400" style="embed"]
ATTACH;FMTTYPE=image/jpeg:https://elshostaletsdepierola.cat/wp-content/upl
 oads/2019/04/setmanagentgran.png
CATEGORIES:Esdeveniments,Gent Gran,newsletter
LOCATION:Pista poliesportiva\, Pista poliesportiva \, Els Hostalets de Pier
 ola\, Espanya
GEO:41.5348287;1.7685406000000512
X-APPLE-STRUCTURED-LOCATION;VALUE=URI;X-ADDRESS=Pista poliesportiva \, Els 
 Hostalets de Pierola\, Espanya;X-APPLE-RADIUS=100;X-TITLE=Pista poliesport
 iva:geo:41.5348287,1.7685406000000512
END:VEVENT
END:VCALENDAR