BEGIN:VCALENDAR
VERSION:2.0
PRODID:-//wp-events-plugin.com//7.2.3//EN
TZID:Europe/Madrid
X-WR-TIMEZONE:Europe/Madrid
BEGIN:VEVENT
UID:1298@elshostaletsdepierola.cat
DTSTART:20210722T180000Z
DTEND:20210722T190000Z
DTSTAMP:20210715T115914Z
URL:https://elshostaletsdepierola.cat/events/22-juliol-prego-i-balls-fm21/
SUMMARY:22 juliol. Pregó i balls (FM21)
DESCRIPTION:
ATTACH;FMTTYPE=image/jpeg:https://elshostaletsdepierola.cat/wp-content/upl
 oads/2021/07/prego.png
CATEGORIES:Esdeveniments,Festes
LOCATION:Escenari c. Anselm Clavé\, C. Anselm Clavé\, Els Hostalets de Pi
 erola\, Espanya
X-APPLE-STRUCTURED-LOCATION;VALUE=URI;X-ADDRESS=C. Anselm Clavé\, Els Host
 alets de Pierola\, Espanya;X-APPLE-RADIUS=100;X-TITLE=Escenari c. Anselm C
 lavé:geo:0,0
END:VEVENT
END:VCALENDAR