BEGIN:VCALENDAR
VERSION:2.0
PRODID:-//wp-events-plugin.com//7.2.3//EN
TZID:Europe/Madrid
X-WR-TIMEZONE:Europe/Madrid
BEGIN:VEVENT
UID:386@elshostaletsdepierola.cat
DTSTART:20171022T090000Z
DTEND:20171022T120000Z
DTSTAMP:20171019T092304Z
URL:https://elshostaletsdepierola.cat/events/22-octubre-6a-caminada-interg
 eneracional/
SUMMARY:22 octubre. 6a Caminada Intergeneracional
DESCRIPTION:La 6a edició de la Caminada Integeneracional dels Hostalets de
  Pierola tornarà a reunir famílies per caminar tots junts.\n\nTota la in
 formació aquí.
ATTACH;FMTTYPE=image/jpeg:https://elshostaletsdepierola.cat/wp-content/upl
 oads/2017/10/10_CaminadaIntergeneracional_v2.jpg
CATEGORIES:Esdeveniments,newsletter
LOCATION:Plaça de Cal Figueres\, Plaça de Cal Figueres\, Els Hostalets de
  Pierola\, Spain\, 08781\, Espanya
GEO:41.5322568;1.797712400000023
X-APPLE-STRUCTURED-LOCATION;VALUE=URI;X-ADDRESS=Plaça de Cal Figueres\, El
 s Hostalets de Pierola\, Spain\, 08781\, Espanya;X-APPLE-RADIUS=100;X-TITL
 E=Plaça de Cal Figueres:geo:41.5322568,1.797712400000023
END:VEVENT
END:VCALENDAR