BEGIN:VCALENDAR
VERSION:2.0
PRODID:-//wp-events-plugin.com//7.2.3//EN
TZID:Europe/Madrid
X-WR-TIMEZONE:Europe/Madrid
BEGIN:VEVENT
UID:361@elshostaletsdepierola.cat
DTSTART:20170823T120000Z
DTEND:20170823T121500Z
DTSTAMP:20170823T065003Z
URL:https://elshostaletsdepierola.cat/events/23-agost-manifest-comunitat-m
 usulmana-hostalets-pierola/
SUMMARY:23 agost. Manifest comunitat musulmana dels Hostalets de Pierola
DESCRIPTION:La comunitat musulmana dels Hostalets de Pierola llegirà el s
 eu manifest de rebuig i comdemna als atemptats de Barcelona i Cambrils.\n
 \nEnfront dels qui diuen matar en nom de la seva religió els musulmans ho
 staletencs responen amb un: "No al terrorisme\, no a la violència i sí a
  la pau".\n\nUs esperem a tots els que volgueu sumar-vos a aquest acte de 
 rebuig i condol per les víctimes dels atemptats.\n\n&nbsp\;\n\n&nbsp\;
ATTACH;FMTTYPE=image/jpeg:https://elshostaletsdepierola.cat/wp-content/upl
 oads/2017/08/musulmans-contra-terrorisme-hostalets.jpg
CATEGORIES:Cultura,Esdeveniments,Gent Gran,Joventut
LOCATION:Ajuntament dels Hostalets de Pierola\, Plaça Cal Figueres\, Els H
 ostalets de Pierola\, Espanya
GEO:41.5340289;1.770080499999949
X-APPLE-STRUCTURED-LOCATION;VALUE=URI;X-ADDRESS=Plaça Cal Figueres\, Els H
 ostalets de Pierola\, Espanya;X-APPLE-RADIUS=100;X-TITLE=Ajuntament dels H
 ostalets de Pierola:geo:41.5340289,1.770080499999949
END:VEVENT
END:VCALENDAR