BEGIN:VCALENDAR
VERSION:2.0
PRODID:-//wp-events-plugin.com//7.2.3//EN
TZID:Europe/Madrid
X-WR-TIMEZONE:Europe/Madrid
BEGIN:VEVENT
UID:105@elshostaletsdepierola.cat
DTSTART:20160423T190000Z
DTEND:20160423T200000Z
DTSTAMP:20160415T110240Z
URL:https://elshostaletsdepierola.cat/events/23-dabril-sant-jordi-presenta
 cio-llibre-carla-jan-llegenda-sant-jordi/
SUMMARY:23 d'abril. Sant Jordi. Presentació del llibre "La Carla\, en Jan 
 i la Llegenda de Sant Jordi"
DESCRIPTION:A càrrec de Teresa Herrero i Eugeni Muriel\, cap d'estudis del
  CEM Cal Maristany.
ATTACH;FMTTYPE=image/jpeg:https://elshostaletsdepierola.cat/wp-content/upl
 oads/2016/04/La-Carla-el-Jan-i-la-llegenda-de-Sant-Jordi-Hostalets-2016fin
 al.jpg
CATEGORIES:Cultura,Esdeveniments,newsletter
LOCATION:Auditori de Cal Figueres\, Plaça Cal Figueres 1\, Hostalets de Pi
 erola\, Espanya
GEO:41.5348287;1.7685406000000512
X-APPLE-STRUCTURED-LOCATION;VALUE=URI;X-ADDRESS=Plaça Cal Figueres 1\, Hos
 talets de Pierola\, Espanya;X-APPLE-RADIUS=100;X-TITLE=Auditori de Cal Fig
 ueres:geo:41.5348287,1.7685406000000512
END:VEVENT
END:VCALENDAR