BEGIN:VCALENDAR
VERSION:2.0
PRODID:-//wp-events-plugin.com//7.2.3//EN
TZID:Europe/Madrid
X-WR-TIMEZONE:Europe/Madrid
BEGIN:VEVENT
UID:1119@elshostaletsdepierola.cat
DTSTART:20200723T070000Z
DTEND:20200723T180000Z
DTSTAMP:20200722T193912Z
URL:https://elshostaletsdepierola.cat/events/23-de-juliol-sant-jordi-2020/
SUMMARY:23 de juliol. Sant Jordi 2020 (suspès)
DESCRIPTION:
ATTACH;FMTTYPE=image/jpeg:https://elshostaletsdepierola.cat/wp-content/upl
 oads/2020/07/sant-jordi.png
CATEGORIES:Cultura,Esdeveniments,Festes,newsletter
END:VEVENT
END:VCALENDAR