BEGIN:VCALENDAR
VERSION:2.0
PRODID:-//wp-events-plugin.com//7.2.3//EN
TZID:Europe/Madrid
X-WR-TIMEZONE:Europe/Madrid
BEGIN:VEVENT
UID:943@elshostaletsdepierola.cat
DTSTART:20191223T160000Z
DTEND:20191223T180000Z
DTSTAMP:20191201T222805Z
URL:https://elshostaletsdepierola.cat/events/23-desembre-jocs-de-taula/
SUMMARY:23 desembre. Jocs de taula
DESCRIPTION:
ATTACH;FMTTYPE=image/jpeg:https://elshostaletsdepierola.cat/wp-content/upl
 oads/2019/12/23.png
CATEGORIES:Esdeveniments,Joventut
END:VEVENT
END:VCALENDAR