BEGIN:VCALENDAR
VERSION:2.0
PRODID:-//wp-events-plugin.com//7.2.3//EN
TZID:Europe/Madrid
X-WR-TIMEZONE:Europe/Madrid
BEGIN:VEVENT
UID:667@elshostaletsdepierola.cat
DTSTART:20181223T180000Z
DTEND:20181223T200000Z
DTSTAMP:20181218T220143Z
URL:https://elshostaletsdepierola.cat/events/23-desembre-mostra-escola-de-
 ball/
SUMMARY:23 desembre. Mostra Escola de Ball
DESCRIPTION:
ATTACH;FMTTYPE=image/jpeg:https://elshostaletsdepierola.cat/wp-content/upl
 oads/2018/12/mostra-de-ball.jpg
CATEGORIES:Cultura,Esdeveniments,Esport,newsletter
LOCATION:Auditori de Cal Figueres\, Plaça Cal Figueres 1\, Hostalets de Pi
 erola\, Espanya
GEO:41.5348287;1.7685406000000512
X-APPLE-STRUCTURED-LOCATION;VALUE=URI;X-ADDRESS=Plaça Cal Figueres 1\, Hos
 talets de Pierola\, Espanya;X-APPLE-RADIUS=100;X-TITLE=Auditori de Cal Fig
 ueres:geo:41.5348287,1.7685406000000512
END:VEVENT
END:VCALENDAR