BEGIN:VCALENDAR
VERSION:2.0
PRODID:-//wp-events-plugin.com//7.2.3//EN
TZID:Europe/Madrid
X-WR-TIMEZONE:Europe/Madrid
BEGIN:VEVENT
UID:474@elshostaletsdepierola.cat
DTSTART:20180223T180000Z
DTEND:20180223T190000Z
DTSTAMP:20180220T130152Z
URL:https://elshostaletsdepierola.cat/events/23-febrer-lhora-conte-biblioc
 ces/
SUMMARY:23 febrer. L'hora del conte al biblio@ccés
DESCRIPTION:Amb la companyia "La mama i la padrina".
CATEGORIES:Cultura,Esdeveniments,newsletter
LOCATION:Biblio@ccés\, Anselm Clavé\, 6\, Els Hostalets de Pierola\, Espa
 nya
GEO:41.53285;1.7733405000000175
X-APPLE-STRUCTURED-LOCATION;VALUE=URI;X-ADDRESS=Anselm Clavé\, 6\, Els Hos
 talets de Pierola\, Espanya;X-APPLE-RADIUS=100;X-TITLE=Biblio@ccés:geo:41
 .53285,1.7733405000000175
END:VEVENT
END:VCALENDAR