BEGIN:VCALENDAR
VERSION:2.0
PRODID:-//wp-events-plugin.com//7.2.3//EN
TZID:Europe/Madrid
X-WR-TIMEZONE:Europe/Madrid
BEGIN:VEVENT
UID:405@elshostaletsdepierola.cat
DTSTART:20171123T193000Z
DTEND:20171123T213000Z
DTSTAMP:20171122T120554Z
URL:https://elshostaletsdepierola.cat/events/23-novembre-ple-municipal-ord
 inari/
SUMMARY:23 novembre. Ple municipal ordinari
DESCRIPTION:Convocatòria del Ple Ordinari de l'Ajuntament dels Hostalets d
 e Pierola el proper dijous\, 23 de novembre a les 19.30h a la Sala de Plen
 s de l'Ajuntament dels Hostalets de Pierola.\n\nTota la informació aquí.
ATTACH;FMTTYPE=image/jpeg:https://elshostaletsdepierola.cat/wp-content/upl
 oads/2016/01/Ho.jpg
CATEGORIES:Esdeveniments,newsletter
LOCATION:Ajuntament dels Hostalets de Pierola\, Plaça Cal Figueres\, Els H
 ostalets de Pierola\, Espanya
GEO:41.5340289;1.770080499999949
X-APPLE-STRUCTURED-LOCATION;VALUE=URI;X-ADDRESS=Plaça Cal Figueres\, Els H
 ostalets de Pierola\, Espanya;X-APPLE-RADIUS=100;X-TITLE=Ajuntament dels H
 ostalets de Pierola:geo:41.5340289,1.770080499999949
END:VEVENT
END:VCALENDAR