BEGIN:VCALENDAR
VERSION:2.0
PRODID:-//wp-events-plugin.com//7.2.3//EN
TZID:Europe/Madrid
X-WR-TIMEZONE:Europe/Madrid
BEGIN:VEVENT
UID:611@elshostaletsdepierola.cat
DTSTART:20180923T180000Z
DTEND:20180923T200000Z
DTSTAMP:20180920T110741Z
URL:https://elshostaletsdepierola.cat/events/23-setembre-intercomarcals-de
 -patinatge/
SUMMARY:23 setembre. Intercomarcals de Patinatge
DESCRIPTION:Les següents patinadores es van classificar en la fase d'Inter
 clubs\, que es va celebrar a Palau-solità i Plegamans el passat 1 de Juli
 ol:\n\nIniciació B:\n-  Andrea Ramírez\nIniciació C: \n-  Anna Valle
 \n-  Carla Matoses\n-  Daniela Molina\n-  Mar Bordes\n\nLes 3 primeres 
 classificades de cada categoria passaràn a la final catalana d'iniciacion
 s\, que es celebrarà el pròxim 20-21 d'Octubre a Cerdanyola.
ATTACH;FMTTYPE=image/jpeg:https://elshostaletsdepierola.cat/wp-content/upl
 oads/2018/09/anna-valle-1a-classificada-daniela-molina-2a-classificada.jpg
CATEGORIES:Esdeveniments,Esport,newsletter
LOCATION:Poliesportiu municipal\, Carrer Garrotxa\, 2\, Lliçà de Vall\, B
 arcelona\, Espanya
GEO:41.5867584;2.2386830000000373
X-APPLE-STRUCTURED-LOCATION;VALUE=URI;X-ADDRESS=Carrer Garrotxa\, 2\, Lliç
 à de Vall\, Barcelona\, Espanya;X-APPLE-RADIUS=100;X-TITLE=Poliesportiu m
 unicipal:geo:41.5867584,2.2386830000000373
END:VEVENT
END:VCALENDAR