BEGIN:VCALENDAR
VERSION:2.0
PRODID:-//wp-events-plugin.com//7.2.3//EN
TZID:Europe/Madrid
X-WR-TIMEZONE:Europe/Madrid
BEGIN:VEVENT
UID:229@elshostaletsdepierola.cat
DTSTART:20161224T000000Z
DTEND:20161225T030000Z
DTSTAMP:20161221T131305Z
URL:https://elshostaletsdepierola.cat/events/24-desembre-cagatio-party/
SUMMARY:24 desembre. Cagatió Party
DESCRIPTION:
CATEGORIES:Cultura,Esdeveniments,Joventut,newsletter
LOCATION:Sala Casal Catala\, Plaça Cal Figueres 1\, Hostalets de Pierola\,
  Espanya
GEO:41.5348287;1.7685406000000512
X-APPLE-STRUCTURED-LOCATION;VALUE=URI;X-ADDRESS=Plaça Cal Figueres 1\, Hos
 talets de Pierola\, Espanya;X-APPLE-RADIUS=100;X-TITLE=Sala Casal Catala:g
 eo:41.5348287,1.7685406000000512
END:VEVENT
END:VCALENDAR