BEGIN:VCALENDAR
VERSION:2.0
PRODID:-//wp-events-plugin.com//7.2.3//EN
TZID:Europe/Madrid
X-WR-TIMEZONE:Europe/Madrid
BEGIN:VEVENT
UID:401@elshostaletsdepierola.cat
DTSTART:20171124T180000Z
DTEND:20171124T190000Z
DTSTAMP:20171121T134600Z
URL:https://elshostaletsdepierola.cat/events/24-novembre-hora-conte/
SUMMARY:24 novembre. L'Hora del Conte al Biblio@ccés
DESCRIPTION:Una nova sessió al Biblio@ccés de 'L'Hora del Conte' a càrre
 c de la companyia 'La mama i la padrina'.
ATTACH;FMTTYPE=image/jpeg:https://elshostaletsdepierola.cat/wp-content/upl
 oads/2017/11/Lhora-del-conte-24novtardor.jpg
CATEGORIES:Cultura,Esdeveniments,newsletter
LOCATION:Biblio@ccés\, Anselm Clavé\, 6\, Els Hostalets de Pierola\, Espa
 nya
GEO:41.53285;1.7733405000000175
X-APPLE-STRUCTURED-LOCATION;VALUE=URI;X-ADDRESS=Anselm Clavé\, 6\, Els Hos
 talets de Pierola\, Espanya;X-APPLE-RADIUS=100;X-TITLE=Biblio@ccés:geo:41
 .53285,1.7733405000000175
END:VEVENT
END:VCALENDAR