BEGIN:VCALENDAR
VERSION:2.0
PRODID:-//wp-events-plugin.com//7.2.3//EN
TZID:Europe/Madrid
X-WR-TIMEZONE:Europe/Madrid
BEGIN:VEVENT
UID:1313@elshostaletsdepierola.cat
DTSTART:20210725T103000Z
DTEND:20210725T113000Z
DTSTAMP:20210717T150209Z
URL:https://elshostaletsdepierola.cat/events/25-juliol-missa-de-festa-majo
 r-fm2021/
SUMMARY:25 juliol. Missa de Festa Major (FM2021)
DESCRIPTION:
ATTACH;FMTTYPE=image/jpeg:https://elshostaletsdepierola.cat/wp-content/upl
 oads/2021/07/missa.png
CATEGORIES:Esdeveniments,Festes
LOCATION:Església de Sant Pere\, Carrer de l'Església\, 18\, Els Hostalet
 s de Pierola\, Spain\, 08781\, Espanya
GEO:41.8162788;2.2353897000000416
X-APPLE-STRUCTURED-LOCATION;VALUE=URI;X-ADDRESS=Carrer de l'Església\, 18\
 , Els Hostalets de Pierola\, Spain\, 08781\, Espanya;X-APPLE-RADIUS=100;X-
 TITLE=Església de Sant Pere:geo:41.8162788,2.2353897000000416
END:VEVENT
END:VCALENDAR