BEGIN:VCALENDAR
VERSION:2.0
PRODID:-//wp-events-plugin.com//7.2.3//EN
TZID:Europe/Madrid
X-WR-TIMEZONE:Europe/Madrid
BEGIN:VEVENT
UID:1312@elshostaletsdepierola.cat
DTSTART:20210725T080000Z
DTEND:20210725T180000Z
DTSTAMP:20210717T150001Z
URL:https://elshostaletsdepierola.cat/events/25-juliol-trenet-turistic-fm2
 021/
SUMMARY:25 juliol. Trenet turístic (FM2021)
DESCRIPTION:
ATTACH;FMTTYPE=image/jpeg:https://elshostaletsdepierola.cat/wp-content/upl
 oads/2021/07/trenet.png
CATEGORIES:Esdeveniments,Festes
LOCATION:Carrer Catalunya\, carrer Catalunya\, Els Hostalets de Pierola\, E
 spanya
X-APPLE-STRUCTURED-LOCATION;VALUE=URI;X-ADDRESS=carrer Catalunya\, Els Host
 alets de Pierola\, Espanya;X-APPLE-RADIUS=100;X-TITLE=Carrer Catalunya:geo
 :0,0
END:VEVENT
END:VCALENDAR