BEGIN:VCALENDAR
VERSION:2.0
PRODID:-//wp-events-plugin.com//7.2.3//EN
TZID:Europe/Madrid
X-WR-TIMEZONE:Europe/Madrid
BEGIN:VEVENT
UID:137@elshostaletsdepierola.cat
DTSTART:20160625T100000Z
DTEND:20160625T110000Z
DTSTAMP:20160621T133749Z
URL:https://elshostaletsdepierola.cat/events/25-juny-xerrada-dels-bombers-
 can-fosalba/
SUMMARY:25 de juny. Xerrada dels Bombers a Can Fosalba
DESCRIPTION:Davant la necessitat de prevenir els incendis i conèixer com a
 ctuar davant d'aquest tipus de circumstàncies els Bombers de Piera organi
 tzen una xerrada el proper dissabte\, 25 de juny a les 10h al Casal Montse
 rrat.
ATTACH;FMTTYPE=image/jpeg:https://elshostaletsdepierola.cat/wp-content/upl
 oads/2016/06/xerrada-incendis-can-fosalba.jpg
CATEGORIES:Esdeveniments,newsletter
LOCATION:Casal Montserrat Can Fosalba\, Can Fosalba\, Els Hostalets de Pier
 ola\, Espanya
GEO:41.5444542;1.8107836000000361
X-APPLE-STRUCTURED-LOCATION;VALUE=URI;X-ADDRESS=Can Fosalba\, Els Hostalets
  de Pierola\, Espanya;X-APPLE-RADIUS=100;X-TITLE=Casal Montserrat Can Fosa
 lba:geo:41.5444542,1.8107836000000361
END:VEVENT
END:VCALENDAR