BEGIN:VCALENDAR
VERSION:2.0
PRODID:-//wp-events-plugin.com//7.2.3//EN
TZID:Europe/Madrid
X-WR-TIMEZONE:Europe/Madrid
BEGIN:VEVENT
UID:274@elshostaletsdepierola.cat
DTSTART:20170325T213000Z
DTEND:20170325T230000Z
DTSTAMP:20170324T090348Z
URL:https://elshostaletsdepierola.cat/events/25-marc-teatre-fulmonti/
SUMMARY:25 de març. Teatre: Fulmonti
DESCRIPTION:El Casal Català presenta la propera obra de teatre que es repr
 esentarà a la Sala Teatre del Casal Català: "Fullmonti".
ATTACH;FMTTYPE=image/jpeg:https://elshostaletsdepierola.cat/wp-content/upl
 oads/2017/03/cartell-fulmonti25març.jpg
CATEGORIES:Cultura,Esdeveniments,newsletter
LOCATION:Sala Teatre Casal Català\, Isidre Vallès \, 30\, Els Hostalets d
 e Pierola\, Espanya
GEO:41.5334999;1.7705200000000332
X-APPLE-STRUCTURED-LOCATION;VALUE=URI;X-ADDRESS=Isidre Vallès \, 30\, Els 
 Hostalets de Pierola\, Espanya;X-APPLE-RADIUS=100;X-TITLE=Sala Teatre Casa
 l Català:geo:41.5334999,1.7705200000000332
END:VEVENT
END:VCALENDAR