BEGIN:VCALENDAR
VERSION:2.0
PRODID:-//wp-events-plugin.com//7.2.3//EN
TZID:Europe/Madrid
X-WR-TIMEZONE:Europe/Madrid
BEGIN:VEVENT
UID:403@elshostaletsdepierola.cat
DTSTART:20171126T093000Z
DTEND:20171126T133000Z
DTSTAMP:20171124T110015Z
URL:https://elshostaletsdepierola.cat/events/25-novembre-trofeu-tardor-pat
 inatge/
SUMMARY:26 novembre. Trofeu de tardor de patinatge
DESCRIPTION:Tot preparat pel Trofeu de tardor de Patinatge dels Hostalets d
 e Pierola. No et pedis aquest esdeveniment esportiu dissabte\, 25 a partir
  de les 9.30h
ATTACH;FMTTYPE=image/jpeg:https://elshostaletsdepierola.cat/wp-content/upl
 oads/2017/11/CartellTrofeudeTardor2017-baix.jpg
CATEGORIES:Esdeveniments,newsletter
LOCATION:Poliesportiu dels Hostalets de Pierola\, Carrer Catalunya s/n\, El
 s Hostalets de Pierola\, Espanya
GEO:40.2016899;-3.8706052
X-APPLE-STRUCTURED-LOCATION;VALUE=URI;X-ADDRESS=Carrer Catalunya s/n\, Els 
 Hostalets de Pierola\, Espanya;X-APPLE-RADIUS=100;X-TITLE=Poliesportiu del
 s Hostalets de Pierola:geo:40.2016899,-3.8706052
END:VEVENT
END:VCALENDAR