BEGIN:VCALENDAR
VERSION:2.0
PRODID:-//wp-events-plugin.com//7.2.3//EN
TZID:Europe/Madrid
X-WR-TIMEZONE:Europe/Madrid
BEGIN:VEVENT
UID:2299@elshostaletsdepierola.cat
DTSTART;TZID=Europe/Madrid:20231122T123000
DTEND;TZID=Europe/Madrid:20231122T140000
DTSTAMP:20231118T155311Z
URL:https://elshostaletsdepierola.cat/events/25n-xerrada-alumnes-3r-i-4t-e
 so/
SUMMARY:25N. Xerrada alumnes 3r i 4t ESO
DESCRIPTION:En el marc del programa d'actes commemoratius i reivindicatius 
 del 25N Dia per a l'eliminació de la violència envers les dones\n\nXerra
 da sobre violència en primera persona. Adreçada als alumnes de 3r i 4t d
 'ESO. A l'auditori Cal Figueres
ATTACH;FMTTYPE=image/jpeg:https://elshostaletsdepierola.cat/wp-content/upl
 oads/2023/11/2.png
CATEGORIES:Esdeveniments,Joventut
LOCATION:Auditori de Cal Figueres\, Plaça Cal Figueres 1\, Hostalets de Pi
 erola\, Espanya
GEO:41.5348287;1.7685406000000512
X-APPLE-STRUCTURED-LOCATION;VALUE=URI;X-ADDRESS=Plaça Cal Figueres 1\, Hos
 talets de Pierola\, Espanya;X-APPLE-RADIUS=100;X-TITLE=Auditori de Cal Fig
 ueres:geo:41.5348287,1.7685406000000512
END:VEVENT
BEGIN:VTIMEZONE
TZID:Europe/Madrid
X-LIC-LOCATION:Europe/Madrid
BEGIN:STANDARD
DTSTART:20231029T020000
TZOFFSETFROM:+0200
TZOFFSETTO:+0100
TZNAME:CET
END:STANDARD
END:VTIMEZONE
END:VCALENDAR