BEGIN:VCALENDAR
VERSION:2.0
PRODID:-//wp-events-plugin.com//7.2.3//EN
TZID:Europe/Madrid
X-WR-TIMEZONE:Europe/Madrid
BEGIN:VEVENT
UID:531@elshostaletsdepierola.cat
DTSTART:20180526T110000Z
DTEND:20180527T170000Z
DTSTAMP:20180521T104831Z
URL:https://elshostaletsdepierola.cat/events/26-27-maig-club-futbol-hostal
 ets-campionat-lliga/
SUMMARY:26-27 maig. Club Futbol Hostalets. Campionat de lliga
DESCRIPTION:CLub Futbol Hostalets. Campionat de lliga. Diverses categories.
ATTACH;FMTTYPE=image/jpeg:https://elshostaletsdepierola.cat/wp-content/upl
 oads/2018/05/26-maig-18.jpg
CATEGORIES:Esdeveniments,Esport,newsletter
LOCATION:Camp de Futbol Hostalets de Pierola\, carrer del Progrés s/n\, El
 s Hostalets de Pierola\, Barcelona\, 08781\, Catalunya\, Espanya
GEO:41.529233372593005;1.778471589965875
X-APPLE-STRUCTURED-LOCATION;VALUE=URI;X-ADDRESS=carrer del Progrés s/n\, E
 ls Hostalets de Pierola\, Barcelona\, 08781\, Catalunya\, Espanya;X-APPLE-
 RADIUS=100;X-TITLE=Camp de Futbol Hostalets de Pierola:geo:41.529233372593
 005,1.778471589965875
END:VEVENT
END:VCALENDAR