BEGIN:VCALENDAR
VERSION:2.0
PRODID:-//wp-events-plugin.com//7.2.3//EN
TZID:Europe/Madrid
X-WR-TIMEZONE:Europe/Madrid
BEGIN:VEVENT
UID:306@elshostaletsdepierola.cat
DTSTART:20170526T120000Z
DTEND:20170528T180000Z
DTSTAMP:20170522T110553Z
URL:https://elshostaletsdepierola.cat/events/26-28-maig-mercat-escapades-c
 atalunya/
SUMMARY:26-28 maig. Mercat d'Escapades de Catalunya
DESCRIPTION:Tota la informació del Mercat d'Escapades i la presència dels
  Hostalets de Pierola aquí.
ATTACH;FMTTYPE=image/jpeg:https://elshostaletsdepierola.cat/wp-content/upl
 oads/2017/05/imatgve-mercat-escapades.jpg
CATEGORIES:Esdeveniments,newsletter,Turisme
LOCATION:Passeig Lluís Companys\, Passeig Lluís Companys\, Barcelona\, Ca
 talunya\, Espanya
GEO:41.389922;2.1813951000000316
X-APPLE-STRUCTURED-LOCATION;VALUE=URI;X-ADDRESS=Passeig Lluís Companys\, B
 arcelona\, Catalunya\, Espanya;X-APPLE-RADIUS=100;X-TITLE=Passeig Lluís C
 ompanys:geo:41.389922,2.1813951000000316
END:VEVENT
END:VCALENDAR