BEGIN:VCALENDAR
VERSION:2.0
PRODID:-//wp-events-plugin.com//7.2.3//EN
TZID:Europe/Madrid
X-WR-TIMEZONE:Europe/Madrid
BEGIN:VEVENT
UID:359@elshostaletsdepierola.cat
DTSTART:20170826T120000Z
DTEND:20170826T200000Z
DTSTAMP:20170822T081048Z
URL:https://elshostaletsdepierola.cat/events/26-agost-dia-soci-casal-gent-
 gran/
SUMMARY:26 agost. Dia del Soci del Casal de la Gent Gran
DESCRIPTION:Dinar i posterior cantanda d'havaneres a la plaça de Cal Figue
 res per celebrar el Dia del Soci del Casal de la Gent Gran.
ATTACH;FMTTYPE=image/jpeg:https://elshostaletsdepierola.cat/wp-content/upl
 oads/2017/08/Dia-Soci-Gent-Gran-16.jpg
CATEGORIES:Esdeveniments,newsletter
LOCATION:Plaça de Cal Figueres\, Plaça de Cal Figueres\, Els Hostalets de
  Pierola\, Spain\, 08781\, Espanya
GEO:41.5322568;1.797712400000023
X-APPLE-STRUCTURED-LOCATION;VALUE=URI;X-ADDRESS=Plaça de Cal Figueres\, El
 s Hostalets de Pierola\, Spain\, 08781\, Espanya;X-APPLE-RADIUS=100;X-TITL
 E=Plaça de Cal Figueres:geo:41.5322568,1.797712400000023
END:VEVENT
END:VCALENDAR