BEGIN:VCALENDAR
VERSION:2.0
PRODID:-//wp-events-plugin.com//7.2.3//EN
TZID:Europe/Madrid
X-WR-TIMEZONE:Europe/Madrid
BEGIN:VEVENT
UID:167@elshostaletsdepierola.cat
DTSTART:20160826T223000Z
DTEND:20160826T235900Z
DTSTAMP:20160822T091449Z
URL:https://elshostaletsdepierola.cat/events/26-dagost-concert-fresca-jard
 ins-crip/
SUMMARY:26 d'agost. Concert a la Fresca als jardins del CRIP
DESCRIPTION:El proper concert als Jardins del CRIP dels ‪#‎HostaletsdeP
 ierola‬ serà divendres\, 26 a les 22.30h. El duet Bergante de violí i 
 piano ens oferirà una especial vetllada a la fresca organitzat per Apc Ho
 stalets.
ATTACH;FMTTYPE=image/jpeg:https://elshostaletsdepierola.cat/wp-content/upl
 oads/2016/08/estiu-a-la-fresca-agost.jpg
CATEGORIES:Cultura,Esdeveniments,newsletter
LOCATION:CRIP\, Aureli Roviralta\,1\, Els Hostalets de Pierola\, Espanya
GEO:41.535661;1.7652459999999337
X-APPLE-STRUCTURED-LOCATION;VALUE=URI;X-ADDRESS=Aureli Roviralta\,1\, Els H
 ostalets de Pierola\, Espanya;X-APPLE-RADIUS=100;X-TITLE=CRIP:geo:41.53566
 1,1.7652459999999337
END:VEVENT
END:VCALENDAR