BEGIN:VCALENDAR
VERSION:2.0
PRODID:-//wp-events-plugin.com//7.2.3//EN
TZID:Europe/Madrid
X-WR-TIMEZONE:Europe/Madrid
BEGIN:VEVENT
UID:83@elshostaletsdepierola.cat
DTSTART:20160326T180000Z
DTEND:20160326T190000Z
DTSTAMP:20160314T193156Z
URL:https://elshostaletsdepierola.cat/events/26-de-marc-setmana-santa-teat
 re-de-titelles-familiar-viatge-de-lilla-del-tresor/
SUMMARY:26 de març. Setmana Santa: Teatre de Titelles Familiar > Viatge de
  l'Illa del Tresor
DESCRIPTION:
CATEGORIES:Cultura,Esdeveniments
LOCATION:Auditori de Cal Figueres\, Plaça Cal Figueres 1\, Hostalets de Pi
 erola\, Espanya
GEO:41.5348287;1.7685406000000512
X-APPLE-STRUCTURED-LOCATION;VALUE=URI;X-ADDRESS=Plaça Cal Figueres 1\, Hos
 talets de Pierola\, Espanya;X-APPLE-RADIUS=100;X-TITLE=Auditori de Cal Fig
 ueres:geo:41.5348287,1.7685406000000512
END:VEVENT
END:VCALENDAR