BEGIN:VCALENDAR
VERSION:2.0
PRODID:-//wp-events-plugin.com//7.2.3//EN
TZID:Europe/Madrid
X-WR-TIMEZONE:Europe/Madrid
BEGIN:VEVENT
UID:84@elshostaletsdepierola.cat
DTSTART:20160326T210000Z
DTEND:20160326T220000Z
DTSTAMP:20160314T192708Z
URL:https://elshostaletsdepierola.cat/events/26-de-marc-setmana-santa-vetl
 la-pasqual/
SUMMARY:26 de març. Setmana Santa: Vetlla Pasqual
DESCRIPTION:
LOCATION:Església de Sant Pere\, Carrer de l'Església\, 18\, Els Hostalet
 s de Pierola\, Spain\, 08781\, Espanya
GEO:41.8162788;2.2353897000000416
X-APPLE-STRUCTURED-LOCATION;VALUE=URI;X-ADDRESS=Carrer de l'Església\, 18\
 , Els Hostalets de Pierola\, Spain\, 08781\, Espanya;X-APPLE-RADIUS=100;X-
 TITLE=Església de Sant Pere:geo:41.8162788,2.2353897000000416
END:VEVENT
END:VCALENDAR