BEGIN:VCALENDAR
VERSION:2.0
PRODID:-//wp-events-plugin.com//7.2.3//EN
TZID:Europe/Madrid
X-WR-TIMEZONE:Europe/Madrid
BEGIN:VEVENT
UID:230@elshostaletsdepierola.cat
DTSTART:20161226T110000Z
DTEND:20161226T140000Z
DTSTAMP:20161221T130940Z
URL:https://elshostaletsdepierola.cat/events/26-desembre-vine-cagar-tio/
SUMMARY:26 desembre. Vine a fer cagar el Tió
DESCRIPTION:
CATEGORIES:Cultura,Esdeveniments,newsletter
LOCATION:Plaça Eladi Conde\, Plaça Eladi Conde\, Els Hostalets de Pierola
 \, Espanya
GEO:41.5369908;1.7658020000000079
X-APPLE-STRUCTURED-LOCATION;VALUE=URI;X-ADDRESS=Plaça Eladi Conde\, Els Ho
 stalets de Pierola\, Espanya;X-APPLE-RADIUS=100;X-TITLE=Plaça Eladi Conde
 :geo:41.5369908,1.7658020000000079
END:VEVENT
END:VCALENDAR