BEGIN:VCALENDAR
VERSION:2.0
PRODID:-//wp-events-plugin.com//7.2.3//EN
TZID:Europe/Madrid
X-WR-TIMEZONE:Europe/Madrid
BEGIN:VEVENT
UID:960@elshostaletsdepierola.cat
DTSTART:20191227T160000Z
DTEND:20191230T190000Z
DTSTAMP:20191225T215846Z
URL:https://elshostaletsdepierola.cat/events/27-al-30-desembre-exposicio-f
 otografica/
SUMMARY:27 al 30 desembre. Exposició fotogràfica
DESCRIPTION:
ATTACH;FMTTYPE=image/jpeg:https://elshostaletsdepierola.cat/wp-content/upl
 oads/2019/12/expo-lluis-j-samso.png
CATEGORIES:Cultura,Esdeveniments,newsletter
LOCATION:Espai de Cultura Cal Batista\, Carrer Major\, 1\, Els Hostalets de
  Pierola\, Espanya
GEO:41.385059;1.9314653000000135
X-APPLE-STRUCTURED-LOCATION;VALUE=URI;X-ADDRESS=Carrer Major\, 1\, Els Host
 alets de Pierola\, Espanya;X-APPLE-RADIUS=100;X-TITLE=Espai de Cultura Cal
  Batista:geo:41.385059,1.9314653000000135
END:VEVENT
END:VCALENDAR