BEGIN:VCALENDAR
VERSION:2.0
PRODID:-//wp-events-plugin.com//7.2.3//EN
TZID:Europe/Madrid
X-WR-TIMEZONE:Europe/Madrid
BEGIN:VEVENT
UID:107@elshostaletsdepierola.cat
DTSTART:20160427T080000Z
DTEND:20160427T114000Z
DTSTAMP:20160421T133758Z
URL:https://elshostaletsdepierola.cat/events/27-dabril-interrupcio-submini
 strament-electric/
SUMMARY:27 d'abril. Interrupció del subministrament elèctric
DESCRIPTION:
CATEGORIES:Esdeveniments,newsletter
END:VEVENT
END:VCALENDAR