BEGIN:VCALENDAR
VERSION:2.0
PRODID:-//wp-events-plugin.com//7.2.3//EN
TZID:Europe/Madrid
X-WR-TIMEZONE:Europe/Madrid
BEGIN:VEVENT
UID:85@elshostaletsdepierola.cat
DTSTART:20160327T110000Z
DTEND:20160327T130000Z
DTSTAMP:20160314T193046Z
URL:https://elshostaletsdepierola.cat/events/27-de-marc-setmana-santa-ofic
 i-de-pasqua-i-caramelles/
SUMMARY:27 de març. Setmana Santa. ofici de Pasqua i Caramelles
DESCRIPTION:
ATTACH;FMTTYPE=image/jpeg:https://elshostaletsdepierola.cat/wp-content/upl
 oads/2016/03/oficid-e-pasqua.jpg
CATEGORIES:Cultura,Esdeveniments
LOCATION:Església de Sant Pere\, Carrer de l'Església\, 18\, Els Hostalet
 s de Pierola\, Spain\, 08781\, Espanya
GEO:41.8162788;2.2353897000000416
X-APPLE-STRUCTURED-LOCATION;VALUE=URI;X-ADDRESS=Carrer de l'Església\, 18\
 , Els Hostalets de Pierola\, Spain\, 08781\, Espanya;X-APPLE-RADIUS=100;X-
 TITLE=Església de Sant Pere:geo:41.8162788,2.2353897000000416
END:VEVENT
END:VCALENDAR