BEGIN:VCALENDAR
VERSION:2.0
PRODID:-//wp-events-plugin.com//7.2.3//EN
TZID:Europe/Madrid
X-WR-TIMEZONE:Europe/Madrid
BEGIN:VEVENT
UID:136@elshostaletsdepierola.cat
DTSTART:20160627T130000Z
DTEND:20160627T140000Z
DTSTAMP:20160622T150023Z
URL:https://elshostaletsdepierola.cat/events/27-juny-xerrada-viatjar-pocs-
 diners/
SUMMARY:27 de juny. Xerrada: Com viatjar amb pocs diners
DESCRIPTION:El Punt Jove dels Hostalets de Pierola organitza una nova xerra
 da especialment indicada per a tots aquells que voleu viatjar durant aques
 t estiu. “Time for Travel” us oferirà informació per poder organitza
 r els vostres viatges de manera alternativa i econòmica.\n\nMés info aqu
 í.
ATTACH;FMTTYPE=image/jpeg:https://elshostaletsdepierola.cat/wp-content/upl
 oads/2016/06/com-viatjar-amb-pocs-diners-2016.jpg
CATEGORIES:Esdeveniments,newsletter,Turisme
LOCATION:Punt Jove dels Hostalets de Pierola\, Anselm Clavé\, 6\, Els Host
 alets de Pierola\, Espanya
GEO:41.53285;1.7733405000000175
X-APPLE-STRUCTURED-LOCATION;VALUE=URI;X-ADDRESS=Anselm Clavé\, 6\, Els Hos
 talets de Pierola\, Espanya;X-APPLE-RADIUS=100;X-TITLE=Punt Jove dels Host
 alets de Pierola:geo:41.53285,1.7733405000000175
END:VEVENT
END:VCALENDAR