BEGIN:VCALENDAR
VERSION:2.0
PRODID:-//wp-events-plugin.com//7.2.3//EN
TZID:Europe/Madrid
X-WR-TIMEZONE:Europe/Madrid
BEGIN:VEVENT
UID:646@elshostaletsdepierola.cat
DTSTART:20181127T100000Z
DTEND:20181127T180000Z
DTSTAMP:20181119T123009Z
URL:https://elshostaletsdepierola.cat/events/27-novembre-jornades-obertes-
 centre-gent-gran/
SUMMARY:27 novembre. Jornades de portes obertes Centre Atenció Gent Gran
DESCRIPTION:Tota la informació\, aquí.
ATTACH;FMTTYPE=image/jpeg:https://elshostaletsdepierola.cat/wp-content/upl
 oads/2018/11/salut-integral-baix.jpg
CATEGORIES:Esdeveniments,Gent Gran,newsletter
LOCATION:Centre Atenció Gent Gran\, Carrer d'Àngel Guimerà s/n\, Els Hos
 talets de Pierola\, Barcelona\, 08781\, Espanya
GEO:41.555528;2.023927599999979
X-APPLE-STRUCTURED-LOCATION;VALUE=URI;X-ADDRESS=Carrer d'Àngel Guimerà s/
 n\, Els Hostalets de Pierola\, Barcelona\, 08781\, Espanya;X-APPLE-RADIUS=
 100;X-TITLE=Centre Atenció Gent Gran:geo:41.555528,2.023927599999979
END:VEVENT
END:VCALENDAR