BEGIN:VCALENDAR
VERSION:2.0
PRODID:-//wp-events-plugin.com//7.2.3//EN
TZID:Europe/Madrid
X-WR-TIMEZONE:Europe/Madrid
BEGIN:VEVENT
UID:388@elshostaletsdepierola.cat
DTSTART:20171027T180000Z
DTEND:20171027T190000Z
DTSTAMP:20171023T101244Z
URL:https://elshostaletsdepierola.cat/events/27-octubre-lhora-conte-biblio
 cces/
SUMMARY:27 octubre. L'Hora del conte al Biblio@ccés
DESCRIPTION:Amb la companyia 'La Mama i la Padrina'. Entrada gratuita.
ATTACH;FMTTYPE=image/jpeg:https://elshostaletsdepierola.cat/wp-content/upl
 oads/2017/10/Lhora-del-conte-en-blancOCT17.jpg
CATEGORIES:Cultura,Esdeveniments,newsletter
LOCATION:Biblio@ccés\, Anselm Clavé\, 6\, Els Hostalets de Pierola\, Espa
 nya
GEO:41.53285;1.7733405000000175
X-APPLE-STRUCTURED-LOCATION;VALUE=URI;X-ADDRESS=Anselm Clavé\, 6\, Els Hos
 talets de Pierola\, Espanya;X-APPLE-RADIUS=100;X-TITLE=Biblio@ccés:geo:41
 .53285,1.7733405000000175
END:VEVENT
END:VCALENDAR