BEGIN:VCALENDAR
VERSION:2.0
PRODID:-//wp-events-plugin.com//7.2.3//EN
TZID:Europe/Madrid
X-WR-TIMEZONE:Europe/Madrid
BEGIN:VEVENT
UID:893@elshostaletsdepierola.cat
DTSTART:20191027T110000Z
DTEND:20191027T130000Z
DTSTAMP:20191024T074658Z
URL:https://elshostaletsdepierola.cat/events/27-octubre-vi-2h-resistencia-
 btt/
SUMMARY:27 octubre. VI 2h Resistència BTT
DESCRIPTION:
ATTACH;FMTTYPE=image/jpeg:https://elshostaletsdepierola.cat/wp-content/upl
 oads/2019/10/screenshot_20191001-202506_drive.jpg
CATEGORIES:Esdeveniments,Esport,newsletter
LOCATION:Parc de Cal Ponsa\, carrer d'Anselm Clavé\, Els Hostalets de Pier
 ola\, Catalunya\, Espanya
GEO:41.5332307;1.772399500000006
X-APPLE-STRUCTURED-LOCATION;VALUE=URI;X-ADDRESS=carrer d'Anselm Clavé\, El
 s Hostalets de Pierola\, Catalunya\, Espanya;X-APPLE-RADIUS=100;X-TITLE=Pa
 rc de Cal Ponsa:geo:41.5332307,1.772399500000006
END:VEVENT
END:VCALENDAR