BEGIN:VCALENDAR
VERSION:2.0
PRODID:-//wp-events-plugin.com//7.2.3//EN
TZID:Europe/Madrid
X-WR-TIMEZONE:Europe/Madrid
BEGIN:VEVENT
UID:519@elshostaletsdepierola.cat
DTSTART:20180428T120000Z
DTEND:20180429T190000Z
DTSTAMP:20180424T215546Z
URL:https://elshostaletsdepierola.cat/events/28-29-abril-club-futbol-hosta
 lets-lliga-diverses-categories/
SUMMARY:28-29 abril. Club Futbol Hostalets. Lliga. Diverses categories
DESCRIPTION:Campionat de lliga. Diverses categories.
ATTACH;FMTTYPE=image/jpeg:https://elshostaletsdepierola.cat/wp-content/upl
 oads/2018/04/28-abril-18.jpg
CATEGORIES:Esdeveniments,Esport,newsletter
LOCATION:Camp Municipal de Futbol\, carrer del Progres. Pol. Ind. Camp de l
 a Serra s/n\, Els Hostalets de Pierola\, Barcelona\, 08781\, Catalunya\, E
 spanya
GEO:41.5289121;1.7759825000000546
X-APPLE-STRUCTURED-LOCATION;VALUE=URI;X-ADDRESS=carrer del Progres. Pol. In
 d. Camp de la Serra s/n\, Els Hostalets de Pierola\, Barcelona\, 08781\, C
 atalunya\, Espanya;X-APPLE-RADIUS=100;X-TITLE=Camp Municipal de Futbol:geo
 :41.5289121,1.7759825000000546
END:VEVENT
END:VCALENDAR