BEGIN:VCALENDAR
VERSION:2.0
PRODID:-//wp-events-plugin.com//7.2.3//EN
TZID:Europe/Madrid
X-WR-TIMEZONE:Europe/Madrid
BEGIN:VEVENT
UID:696@elshostaletsdepierola.cat
DTSTART:20190128T180000Z
DTEND:20190128T190000Z
DTSTAMP:20190122T113211Z
URL:https://elshostaletsdepierola.cat/events/28-gener-cafe-tertulia-al-cas
 al-de-la-gent-gran/
SUMMARY:28 gener. Cafè Tertúlia al Casal de la Gent Gran
DESCRIPTION:
ATTACH;FMTTYPE=image/jpeg:https://elshostaletsdepierola.cat/wp-content/upl
 oads/2019/01/cartells-neardental-1-19-pdf.jpg
CATEGORIES:Esdeveniments,Gent Gran,newsletter
LOCATION:Casal d'avis\, Plaça Cal Figueres 1\, Hostalets de Pierola\, Espa
 nya
GEO:41.5348287;1.7685406000000512
X-APPLE-STRUCTURED-LOCATION;VALUE=URI;X-ADDRESS=Plaça Cal Figueres 1\, Hos
 talets de Pierola\, Espanya;X-APPLE-RADIUS=100;X-TITLE=Casal d'avis:geo:41
 .5348287,1.7685406000000512
END:VEVENT
END:VCALENDAR