BEGIN:VCALENDAR
VERSION:2.0
PRODID:-//wp-events-plugin.com//7.2.3//EN
TZID:Europe/Madrid
X-WR-TIMEZONE:Europe/Madrid
BEGIN:VEVENT
UID:1288@elshostaletsdepierola.cat
DTSTART:20210628T190000Z
DTEND:20210628T193000Z
DTSTAMP:20210628T110814Z
URL:https://elshostaletsdepierola.cat/events/28-juny-manifest-lgtbi/
SUMMARY:28 juny. Manifest LGTBI
DESCRIPTION:Lectura del manifest en el Dia Internacional de l'Orgull LGTBIQ
 + i encesa de la il·luminació a la Torre del Sr. Enric.
ATTACH;FMTTYPE=image/jpeg:https://elshostaletsdepierola.cat/wp-content/upl
 oads/2021/06/banderalgtbi.jpg
CATEGORIES:Acció social,Esdeveniments
LOCATION:Davant de la Torre del Sr. Enric\, Plaça Cal Figueres 1\, Els Hos
 talets de Pierola\, Espanya
GEO:41.5340289;1.770080499999949
X-APPLE-STRUCTURED-LOCATION;VALUE=URI;X-ADDRESS=Plaça Cal Figueres 1\, Els
  Hostalets de Pierola\, Espanya;X-APPLE-RADIUS=100;X-TITLE=Davant de la To
 rre del Sr. Enric:geo:41.5340289,1.770080499999949
END:VEVENT
END:VCALENDAR