BEGIN:VCALENDAR
VERSION:2.0
PRODID:-//wp-events-plugin.com//7.2.3//EN
TZID:Europe/Madrid
X-WR-TIMEZONE:Europe/Madrid
BEGIN:VEVENT
UID:315@elshostaletsdepierola.cat
DTSTART:20170628T201500Z
DTEND:20170628T231500Z
DTSTAMP:20170622T102956Z
URL:https://elshostaletsdepierola.cat/events/28-juny-opera-directe-otello-
 verdi/
SUMMARY:28 juny. Òpera en directe: Otello de Verdi
DESCRIPTION:
CATEGORIES:Cultura,Esdeveniments,newsletter
LOCATION:Auditori de Cal Figueres\, Plaça Cal Figueres 1\, Hostalets de Pi
 erola\, Espanya
GEO:41.5348287;1.7685406000000512
X-APPLE-STRUCTURED-LOCATION;VALUE=URI;X-ADDRESS=Plaça Cal Figueres 1\, Hos
 talets de Pierola\, Espanya;X-APPLE-RADIUS=100;X-TITLE=Auditori de Cal Fig
 ueres:geo:41.5348287,1.7685406000000512
END:VEVENT
END:VCALENDAR