BEGIN:VCALENDAR
VERSION:2.0
PRODID:-//wp-events-plugin.com//7.2.3//EN
TZID:Europe/Madrid
X-WR-TIMEZONE:Europe/Madrid
BEGIN:VEVENT
UID:1168@elshostaletsdepierola.cat
DTSTART:20201128T153000Z
DTEND:20201128T170000Z
DTSTAMP:20201124T175124Z
URL:https://elshostaletsdepierola.cat/events/28-novembre-teatre-forum/
SUMMARY:28 novembre. Teatre Fòrum 25N
DESCRIPTION:
ATTACH;FMTTYPE=image/jpeg:https://elshostaletsdepierola.cat/wp-content/upl
 oads/2020/11/imatge25n.png
CATEGORIES:Acció social,Esdeveniments,newsletter
LOCATION:Pista poliesportiva\, Pista poliesportiva \, Els Hostalets de Pier
 ola\, Espanya
GEO:41.5348287;1.7685406000000512
X-APPLE-STRUCTURED-LOCATION;VALUE=URI;X-ADDRESS=Pista poliesportiva \, Els 
 Hostalets de Pierola\, Espanya;X-APPLE-RADIUS=100;X-TITLE=Pista poliesport
 iva:geo:41.5348287,1.7685406000000512
END:VEVENT
END:VCALENDAR