BEGIN:VCALENDAR
VERSION:2.0
PRODID:-//wp-events-plugin.com//7.2.3//EN
TZID:Europe/Madrid
X-WR-TIMEZONE:Europe/Madrid
BEGIN:VEVENT
UID:457@elshostaletsdepierola.cat
DTSTART:20180129T180000Z
DTEND:20180129T200000Z
DTSTAMP:20180125T130804Z
URL:https://elshostaletsdepierola.cat/events/29-gener-tertulia-saludable-s
 essio-magia/
SUMMARY:29 gener. Tertúlia saludable. Sessió de màgia
DESCRIPTION:Nova sessió de les Tertúlies Saludables de la Gent Gran! Aque
 sta vegada amb la participació del millor mag del panorama local.\n\nMés
  informació aquí.
ATTACH;FMTTYPE=image/jpeg:https://elshostaletsdepierola.cat/wp-content/upl
 oads/2018/01/tertulia-magia-gener-18.jpg
CATEGORIES:Esdeveniments,Gent Gran,newsletter
LOCATION:Casal d'avis\, Plaça Cal Figueres 1\, Hostalets de Pierola\, Espa
 nya
GEO:41.5348287;1.7685406000000512
X-APPLE-STRUCTURED-LOCATION;VALUE=URI;X-ADDRESS=Plaça Cal Figueres 1\, Hos
 talets de Pierola\, Espanya;X-APPLE-RADIUS=100;X-TITLE=Casal d'avis:geo:41
 .5348287,1.7685406000000512
END:VEVENT
END:VCALENDAR