BEGIN:VCALENDAR
VERSION:2.0
PRODID:-//wp-events-plugin.com//7.2.3//EN
TZID:Europe/Madrid
X-WR-TIMEZONE:Europe/Madrid
BEGIN:VEVENT
UID:820@elshostaletsdepierola.cat
DTSTART:20190629T213000Z
DTEND:20190629T235900Z
DTSTAMP:20190627T214352Z
URL:https://elshostaletsdepierola.cat/events/29-juny-sopar-solidari-i-conc
 ert-amb-pep-llado-two-rivers-band/
SUMMARY:29 juny. Sopar solidari i concert al Casal
DESCRIPTION:Amb motiu de les obres\, es canvia la ubicació a la Placeta.
ATTACH;FMTTYPE=image/jpeg:https://elshostaletsdepierola.cat/wp-content/upl
 oads/2019/06/soparsolidari.png
CATEGORIES:Cultura,Esdeveniments,newsletter
LOCATION:Plaça Eladi Conde\, Plaça Eladi Conde\, Els Hostalets de Pierola
 \, Espanya
GEO:41.5369908;1.7658020000000079
X-APPLE-STRUCTURED-LOCATION;VALUE=URI;X-ADDRESS=Plaça Eladi Conde\, Els Ho
 stalets de Pierola\, Espanya;X-APPLE-RADIUS=100;X-TITLE=Plaça Eladi Conde
 :geo:41.5369908,1.7658020000000079
END:VEVENT
END:VCALENDAR