BEGIN:VCALENDAR
VERSION:2.0
PRODID:-//wp-events-plugin.com//7.2.3//EN
TZID:Europe/Madrid
X-WR-TIMEZONE:Europe/Madrid
BEGIN:VEVENT
UID:927@elshostaletsdepierola.cat
DTSTART:20191129T190000Z
DTEND:20191129T203000Z
DTSTAMP:20191128T141835Z
URL:https://elshostaletsdepierola.cat/events/29-novembre-bolets-i-salut/
SUMMARY:29 novembre. Bolets i salut
DESCRIPTION:
ATTACH;FMTTYPE=image/jpeg:https://elshostaletsdepierola.cat/wp-content/upl
 oads/2019/11/screenshot_20191117-203129_whatsapp.jpg
CATEGORIES:Esdeveniments,newsletter,Salut
END:VEVENT
END:VCALENDAR