BEGIN:VCALENDAR
VERSION:2.0
PRODID:-//wp-events-plugin.com//7.2.3//EN
TZID:Europe/Madrid
X-WR-TIMEZONE:Europe/Madrid
BEGIN:VEVENT
UID:610@elshostaletsdepierola.cat
DTSTART;VALUE=DATE:20181003
DTEND;VALUE=DATE:20181010
DTSTAMP:20180920T105004Z
URL:https://elshostaletsdepierola.cat/events/3-9-octubre-learning-by-playi
 ng/
SUMMARY:3-9 octubre: Learning by Playing
DESCRIPTION:El Consell Comarcal de l’Anoia organitza la formació interna
 cional en el lleure ‘Learning by Playing’ que tindrà lloc a l’alber
 g de Can Roviralta.
ATTACH;FMTTYPE=image/jpeg:https://elshostaletsdepierola.cat/wp-content/upl
 oads/2018/09/learning-by-playing.jpeg
CATEGORIES:Esdeveniments,Joventut
LOCATION:Alberg de Can Roviralta\, Aureli de Can Roviralta\, 1\, Els Hostal
 ets de Pierola\, Barcelona\, Catalunya\, Espanya
GEO:41.5348287;1.7685406000000512
X-APPLE-STRUCTURED-LOCATION;VALUE=URI;X-ADDRESS=Aureli de Can Roviralta\, 1
 \, Els Hostalets de Pierola\, Barcelona\, Catalunya\, Espanya;X-APPLE-RADI
 US=100;X-TITLE=Alberg de Can Roviralta:geo:41.5348287,1.7685406000000512
END:VEVENT
END:VCALENDAR